BEGIN:VCALENDAR
CALSCALE:GREGORIAN
X-WR-TIMEZONE;VALUE=TEXT:GMT
PRODID:PEAK Corporation - piCal -
X-WR-CALNAME;VALUE=TEXT:ジュニアゴルファー検定会（加藤農園ゴルフリンクス）
VERSION:2.0
METHOD:PUBLISH
BEGIN:VTIMEZONE
TZID:GMT
BEGIN:STANDARD
DTSTART:19390101T000000
TZOFFSETFROM:+0000
TZOFFSETTO:+0000
TZNAME:GMT
END:STANDARD
END:VTIMEZONE
BEGIN:VEVENT
DTSTART:20110302T094500Z
DTEND:20110302T103000Z
LOCATION:加藤農園ゴルフリンクス
TRANSP:OPAQUE
SEQUENCE:2
UID:pical060-1581cc8c0599780502137ca5d77dda30
DTSTAMP:20110217T012535Z
CATEGORIES:練習場イベント、フェア情報,東京エリア,ジュニアゴルフスクール、イベント他情報,ジュニアスクール情報
DESCRIPTION:検定級：15級〜10級（ペーパー、実技テスト）\n参加費：￥1,500\n\n※この日、3月2日（水）は2カ所の検定開場で行われます。\n・第1会場：加藤農園ゴルフリンクス\n・第2会場：加藤農園ゴルフリンクス南平校（東京都日野市）\n\n参加ご希望の方で、ご質問などは是非以下のフォーラムトピックをクリックして訪問して、お気軽にどうぞ。\n\n<a href="http://www.lifetimegolf.jp/kanto/modules/xhnewbb/viewtopic.php?topic_id=44" target="_blank">加藤農園ゴルフリンクスフォーラム内3月ジュニア検定会トピック</a>
SUMMARY:ジュニアゴルファー検定会（加藤農園ゴルフリンクス）
PRIORITY:0
CLASS:PUBLIC
END:VEVENT
END:VCALENDAR
