BEGIN:VCALENDAR
CALSCALE:GREGORIAN
X-WR-TIMEZONE;VALUE=TEXT:GMT
PRODID:PEAK Corporation - piCal -
X-WR-CALNAME;VALUE=TEXT:グリーンパークコンペ　2010
VERSION:2.0
METHOD:PUBLISH
BEGIN:VTIMEZONE
TZID:GMT
BEGIN:STANDARD
DTSTART:19390101T000000
TZOFFSETFROM:+0000
TZOFFSETTO:+0000
TZNAME:GMT
END:STANDARD
END:VTIMEZONE
BEGIN:VEVENT
DTSTART;VALUE=DATE:20101105
DTEND;VALUE=DATE:20101106
LOCATION:鴻巣カントリークラブ
TRANSP:OPAQUE
SEQUENCE:0
UID:pical060-b01dfd6a762a2f14c0437a6f747983b1
DTSTAMP:20101007T043637Z
CATEGORIES:練習場イベント、フェア情報,関東全域,東京エリア
DESCRIPTION:詳しくは、　<a href="http://www.greenparkgolf.com\n" target="_blank">http://www.greenparkgolf.com\n</a> まで
SUMMARY:グリーンパークコンペ　2010
PRIORITY:0
CLASS:PUBLIC
END:VEVENT
END:VCALENDAR
