BEGIN:VCALENDAR
CALSCALE:GREGORIAN
X-WR-TIMEZONE;VALUE=TEXT:GMT
PRODID:PEAK Corporation - piCal -
X-WR-CALNAME;VALUE=TEXT:第44回全日本パブリックアマチュアゴルフ選手権競技・東日本B地区予選（東京・昭和の森ゴルフコース）
VERSION:2.0
METHOD:PUBLISH
BEGIN:VTIMEZONE
TZID:GMT
BEGIN:STANDARD
DTSTART:19390101T000000
TZOFFSETFROM:+0000
TZOFFSETTO:+0000
TZNAME:GMT
END:STANDARD
END:VTIMEZONE
BEGIN:VEVENT
DTSTART;VALUE=DATE:20100415
DTEND;VALUE=DATE:20100416
LOCATION:昭和の森ゴルフコース
TRANSP:OPAQUE
SEQUENCE:6
UID:pical060-8b0e9e8d6d38dbf090a6ecbad01549ec
DTSTAMP:20100414T083434Z
CATEGORIES:トーナメント情報(関東エリア),アマチュアトーナメント、大会情報
DESCRIPTION:競技詳細は、ダウンロードコーナーにある「東日本B地区予選」詳細のPDFをご覧ください。\nまた、参加予定の方々は、フォーラムにある大会の各地区予選・決勝のフォーラムにも是非書き込んでください。結果や感想などもお待ちしています。\n会場については、昭和の森ゴルフコースの<a href="http://www.smgc.co.jp/" target="_blank">公式サイト</a>をご覧ください。
SUMMARY:第44回全日本パブリックアマチュアゴルフ選手権競技・東日本B地区予選（東京・昭和の森ゴルフコース）
PRIORITY:0
CLASS:PUBLIC
END:VEVENT
END:VCALENDAR
